View In:
ArcGIS JavaScript
ArcGIS Online Map Viewer
ArcGIS Earth
ArcMap
View Footprint In:
ArcGIS Online Map Viewer
Service Description: DEM February 2021 WGS84 Aux - Derived from LiDAR
Name: BayswaterExternal/DEM_February_2021_WGS84_Aux_WEB
Description: DEM February 2021 WGS84 Aux - Derived from LiDAR
Single Fused Map Cache: true
Tile Info:
- Height: 256
- Width: 256
- DPI: 96
-
Levels of Detail: 24
-
Level ID: 0
[ Start Tile, End Tile ]
- Resolution: 156543.03392800014
- Scale: 5.91657527591555E8
-
Level ID: 1
[ Start Tile, End Tile ]
- Resolution: 78271.51696399994
- Scale: 2.95828763795777E8
-
Level ID: 2
[ Start Tile, End Tile ]
- Resolution: 39135.75848200009
- Scale: 1.47914381897889E8
-
Level ID: 3
[ Start Tile, End Tile ]
- Resolution: 19567.87924099992
- Scale: 7.3957190948944E7
-
Level ID: 4
[ Start Tile, End Tile ]
- Resolution: 9783.93962049996
- Scale: 3.6978595474472E7
-
Level ID: 5
[ Start Tile, End Tile ]
- Resolution: 4891.96981024998
- Scale: 1.8489297737236E7
- Format: LERC
- Compression Quality: 0.0
- LERC Error: 0.1
- Origin: X: -2.0037508342787E7
Y: 2.0037508342787E7
- Spatial Reference: 102100
(3857)
Extent:
XMin: 1.2888068055251107E7
YMin: -3760118.7875208766
XMax: 1.2918706036719369E7
YMax: -3742914.474388523
Spatial Reference: 102100
(3857)
Initial Extent:
XMin: 1.2888068055251107E7
YMin: -3760118.7875208766
XMax: 1.2918706036719369E7
YMax: -3742914.474388523
Spatial Reference: 102100
(3857)
Full Extent:
XMin: 1.2888068055251107E7
YMin: -3760118.7875208766
XMax: 1.2918706036719369E7
YMax: -3742914.474388523
Spatial Reference: 102100
(3857)
Pixel Size X: 1.1939977189502007
Pixel Size Y: 1.1939977189502111
Band Count: 1
Pixel Type: F32
RasterFunction Infos: {"rasterFunctionInfos": [{
"name": "None",
"description": "",
"help": ""
}]}
Mensuration Capabilities: Basic
Has Histograms: true
Has Colormap: false
Has Multi Dimensions : false
Rendering Rule:
Min Scale: 144447.638572
Max Scale: 2256.994353
Min LOD: 12
Max LOD: 18
Copyright Text: City of Bayswater 2021
Service Data Type: esriImageServiceDataTypeGeneric
Min Values: -2.8362467288970947
Max Values: 83.17585754394531
Mean Values: 20.357239733525866
Standard Deviation Values: 12.72051747217674
Object ID Field:
Fields:
None
Default Mosaic Method: Center
Allowed Mosaic Methods:
SortField:
SortValue: null
Mosaic Operator: First
Default Compression Quality: 75
Default Resampling Method: Bilinear
Max Record Count: null
Max Image Height: 4100
Max Image Width: 15000
Max Download Image Count: null
Max Mosaic Image Count: null
Allow Raster Function: true
Allow Copy: null
Allow Analysis: null
Allow Compute TiePoints: false
Supports Statistics: false
Supports Advanced Queries: false
Use StandardizedQueries: true
Raster Type Infos:
Name: Raster Dataset
Description: Supports all ArcGIS Raster Datasets
Help:
Has Raster Attribute Table: false
Edit Fields Info: null
Ownership Based AccessControl For Rasters: null
Child Resources:
Info
Histograms
Key Properties
Legend
Raster Function Infos
Supported Operations:
Export Image
Identify
Measure
Compute Histograms
Compute Statistics Histograms
Get Samples
Compute Class Statistics
Query Boundary
Compute Pixel Location
Validate
Project